BEGIN:VCALENDAR
VERSION:2.0
PRODID:-//Kolibri-Kollektiv - ECPv6.15.20//NONSGML v1.0//EN
CALSCALE:GREGORIAN
METHOD:PUBLISH
X-WR-CALNAME:Kolibri-Kollektiv
X-ORIGINAL-URL:https://kolibri-kollektiv.net
X-WR-CALDESC:Veranstaltungen für Kolibri-Kollektiv
REFRESH-INTERVAL;VALUE=DURATION:PT1H
X-Robots-Tag:noindex
X-PUBLISHED-TTL:PT1H
BEGIN:VTIMEZONE
TZID:Europe/Berlin
BEGIN:DAYLIGHT
TZOFFSETFROM:+0100
TZOFFSETTO:+0200
TZNAME:CEST
DTSTART:20240331T010000
END:DAYLIGHT
BEGIN:STANDARD
TZOFFSETFROM:+0200
TZOFFSETTO:+0100
TZNAME:CET
DTSTART:20241027T010000
END:STANDARD
BEGIN:DAYLIGHT
TZOFFSETFROM:+0100
TZOFFSETTO:+0200
TZNAME:CEST
DTSTART:20250330T010000
END:DAYLIGHT
BEGIN:STANDARD
TZOFFSETFROM:+0200
TZOFFSETTO:+0100
TZNAME:CET
DTSTART:20251026T010000
END:STANDARD
BEGIN:DAYLIGHT
TZOFFSETFROM:+0100
TZOFFSETTO:+0200
TZNAME:CEST
DTSTART:20260329T010000
END:DAYLIGHT
BEGIN:STANDARD
TZOFFSETFROM:+0200
TZOFFSETTO:+0100
TZNAME:CET
DTSTART:20261025T010000
END:STANDARD
BEGIN:DAYLIGHT
TZOFFSETFROM:+0100
TZOFFSETTO:+0200
TZNAME:CEST
DTSTART:20270328T010000
END:DAYLIGHT
BEGIN:STANDARD
TZOFFSETFROM:+0200
TZOFFSETTO:+0100
TZNAME:CET
DTSTART:20271031T010000
END:STANDARD
END:VTIMEZONE
BEGIN:VEVENT
DTSTART;TZID=Europe/Berlin:20260329T150000
DTEND;TZID=Europe/Berlin:20260329T170000
DTSTAMP:20260419T154234
CREATED:20260323T090930Z
LAST-MODIFIED:20260323T090930Z
UID:1586-1774796400-1774803600@kolibri-kollektiv.net
SUMMARY:Klima-Café
DESCRIPTION:Klima-Café mit den Kolibris\nIhr wollt euch im gemütlichen Rahmen austauschen\, uns kennenlernen oder einfach einen entspannten Nachmittag verbringen? Dann laden wir euch herzlich zu unserem offenen Treffen im Krumm&Schepp in Mainz ein! \nWir freuen uns auf euch!
URL:https://kolibri-kollektiv.net/termin/klima-cafe/
LOCATION:Krumm & Schebb\, Karoline-Stern-Platz 9\, Mainz\, 55116\, Germany
ATTACH;FMTTYPE=image/jpeg:https://kolibri-kollektiv.net/wp-content/uploads/2026/03/klimacafe.jpg
END:VEVENT
BEGIN:VEVENT
DTSTART;TZID=Europe/Berlin:20260301T150000
DTEND;TZID=Europe/Berlin:20260301T163000
DTSTAMP:20260419T154234
CREATED:20260103T110725Z
LAST-MODIFIED:20260112T092021Z
UID:1553-1772377200-1772382600@kolibri-kollektiv.net
SUMMARY:Kolibri-Plenum im März
DESCRIPTION:Unser Plenum immer am 1. Sonntag im Monat statt. Wir treffen uns im Infoladen in Wiesbaden. \nNeue Menschen sind immer sehr willkommen!
URL:https://kolibri-kollektiv.net/termin/kolibri-plenum-maerz-2026/
LOCATION:Infoladen Wiesbaden\, Blücherstraße 46 (Hinterhof)\, Wiesbaden\, 65195\, Germany
ATTACH;FMTTYPE=image/jpeg:https://kolibri-kollektiv.net/wp-content/uploads/2026/01/Die-Plenumstermine-fuer-dieses-Jahr-stehen-fest.jpg
END:VEVENT
BEGIN:VEVENT
DTSTART;TZID=Europe/Berlin:20260208T150000
DTEND;TZID=Europe/Berlin:20260208T163000
DTSTAMP:20260419T154234
CREATED:20260103T110311Z
LAST-MODIFIED:20260206T092533Z
UID:1549-1770562800-1770568200@kolibri-kollektiv.net
SUMMARY:Kolibri-Plenum im Februar
DESCRIPTION:Unser Plenum immer am 1. Sonntag im Monat statt. \nDa der Infoladen belegt ist\, weichen wir diesmal ausnahmsweise in die Blücherstraße 28 aus. \nNeue Menschen sind immer sehr willkommen! \nIm Februar treffen wir uns abweichend am zweiten Wochenende.
URL:https://kolibri-kollektiv.net/termin/kolibri-plenum-feb-2026/
LOCATION:Fragmente Wiesbaden\, Blücherstraße 28\, Wiesbaden\, 65195
ATTACH;FMTTYPE=image/jpeg:https://kolibri-kollektiv.net/wp-content/uploads/2026/01/Die-Plenumstermine-fuer-dieses-Jahr-stehen-fest.jpg
END:VEVENT
BEGIN:VEVENT
DTSTART;TZID=Europe/Berlin:20260124T153000
DTEND;TZID=Europe/Berlin:20260124T170000
DTSTAMP:20260419T154234
CREATED:20260123T103438Z
LAST-MODIFIED:20260123T104201Z
UID:1572-1769268600-1769274000@kolibri-kollektiv.net
SUMMARY:Free Rojava\, free Kurdistan
DESCRIPTION:Rojava wird derzeit von einer Allianz autoritärer Kräfte im Nahen Osten unter Beschuss genommen. \nDer Ausverkauf der Region ist längst beschlossene Sache: Rojavas Ölvorkommen sollen sowohl unter den Angreifenden als auch denen aufgeteilt werden\, die nun gezielt wegschauen (👉 siehe Bericht ak). \nDass ausgerechnet die USA\, die unter dem Deckmantel der Demokratie schon zahlreiche Kriege begonnen haben\, die geplante Vernichtung des demokratischen Rojavas billigend in Kauf nehmen wollen\, nur um sich an dessen Bodenschätzen zu bereichern ist zutiefst entlarvend. \nAber auch Deutschland schaut weg und hofft dadurch\, trotz der anhaltenden Konflikte Abschiebungen nach Syrien zu ermöglichen. \nIm Schatten der zahlreichen weltweiten Krisen und Konflikte soll Rojava nun ohne internationalen Aufschrei zerstört werden. \nDarum ist es umso wichtiger hinzuschauen! Denn es braucht nun mehr denn je internationalen Druck. \nWir sagen daher: All eyes on Rojava! \nKommt zur Kundgebung am Samstag um 15:30 am Mainzer Hauptbahnhof.
URL:https://kolibri-kollektiv.net/termin/free-rojava-demo-24-01-2026/
LOCATION:Mainz Hauptbahnhof\, Bahnhofsplatz\, Mainz\, 55116\, Germany
ATTACH;FMTTYPE=image/jpeg:https://kolibri-kollektiv.net/wp-content/uploads/2026/01/rojava-demo-mz_24-01-2026.jpg
END:VEVENT
BEGIN:VEVENT
DTSTART;TZID=Europe/Berlin:20251220T180000
DTEND;TZID=Europe/Berlin:20251220T193000
DTSTAMP:20260419T154234
CREATED:20251217T133841Z
LAST-MODIFIED:20251217T133929Z
UID:1530-1766253600-1766259000@kolibri-kollektiv.net
SUMMARY:Der Kampf gegen Arten kennt keine Grenzen! Online-Meeting mit No Food\, No Science aus Italien
DESCRIPTION:Hoch – die – internationale Solidarität! \n\n\n\nWir freuen uns am Samstag 20.12. um 18 Uhr zu Gast bei einem Webinar mit Aktivistis von „No Food\, No Science“ zu sein. Zentrales Thema wird unser Protest gegen den Deutschen Fleischkongress und unser diesjähriger GEGENkongress sein. Wir werden zudem über internationale Vernetzung sprechen\, Gemeinsamkeiten unserer Kämpfe und was wir voneinander lernen können. \n\n\n\nDas Treffen findet in Englisch statt. Zwischendurch wird es immer mal wieder eine kurze Zusammenfassung auf Italienisch geben. \n\n\n\nKommt gerne dazu! \n\n\n\nTeilnahme-Link: https://iu.zoom.us/j/81655425001
URL:https://kolibri-kollektiv.net/termin/der-kampf-gegen-arten-kennt-keine-grenzen-online-meeting-mit-no-food-no-science-aus-italien/
ATTACH;FMTTYPE=image/webp:https://kolibri-kollektiv.net/wp-content/uploads/2025/12/602026691_17954392677045133_6845799742143343645_n.webp
END:VEVENT
BEGIN:VEVENT
DTSTART;TZID=Europe/Berlin:20251207T150000
DTEND;TZID=Europe/Berlin:20251207T163000
DTSTAMP:20260419T154234
CREATED:20251108T130401Z
LAST-MODIFIED:20251108T130401Z
UID:1289-1765119600-1765125000@kolibri-kollektiv.net
SUMMARY:Kolibri-Plenum im Dezember in Wiesbaden
DESCRIPTION:Unser Plenum immer am 1. Sonntag im Monat statt. Wir treffen uns diesmal im Infoladen in Wiesbaden.
URL:https://kolibri-kollektiv.net/termin/kolibri-plenum-dez-2025/
LOCATION:Infoladen Wiesbaden\, Blücherstraße 46 (Hinterhof)\, Wiesbaden\, 65195\, Germany
ATTACH;FMTTYPE=image/png:https://kolibri-kollektiv.net/wp-content/uploads/2025/11/kolibri-plenum_07-12-25.png
END:VEVENT
BEGIN:VEVENT
DTSTART;VALUE=DATE:20251125
DTEND;VALUE=DATE:20251127
DTSTAMP:20260419T154234
CREATED:20251028T090306Z
LAST-MODIFIED:20251028T090306Z
UID:1258-1764028800-1764201599@kolibri-kollektiv.net
SUMMARY:Protest gegen den Deutschen Fleischkongress in Mainz
DESCRIPTION:Auch 2025 wird es wieder vielfältige Protestaktionen gegen den Fleischkongress geben. Und natürlich werden wir auch zum Kongress-Beginn am Di 25.11. wieder vor Ort gemeinsam laut sein. Denn wir werden nicht zulassen\, dass dieses unzeitgemäße und skandalöse Treffen ungestört von statten geht! \nMehr unter https://kolibri-kollektiv.net/fleischkongress/
URL:https://kolibri-kollektiv.net/termin/protest-gegen-den-deutschen-fleischkongress-2025/
LOCATION:Rheingoldhalle Mainz\, Rheinstraße 66\, Mainz\, 55116\, Deutschland
ATTACH;FMTTYPE=image/png:https://kolibri-kollektiv.net/wp-content/uploads/2025/10/DFK_2025_save_the_date.png
END:VEVENT
BEGIN:VEVENT
DTSTART;TZID=Europe/Berlin:20251124T210000
DTEND;TZID=Europe/Berlin:20251124T213000
DTSTAMP:20260419T154234
CREATED:20251116T102841Z
LAST-MODIFIED:20251118T162642Z
UID:1330-1764018000-1764019800@kolibri-kollektiv.net
SUMMARY:GEGENkongress: Bewegungsübergreifend aktiv werden
DESCRIPTION:Warum unsere Kämpfe zusammen gehören\nVortrag von Gemeinsam gegen die Tierindustrie Bayern / Animal Rebellion Leipzig \nPatriarchal. Rassistisch. Klimazerstörerisch. Die Tierindustrie ist ein Brennglas kapitalistischer Gewalt. Wer Tierbefreiung ernst meint muss weiter denken: antikapitalistisch\, feministisch\, klimagerecht. \nÜber die Referentin\nGemeinsam gegen die Tierindustrie Bayern ist Teil eines bundesweiten Bündnisses\, das sich für eine pflanzliche und gerechte Landwirtschaft einsetzt. Ziel ist die Abschaffung der Tierindustrie und die Förderung einer nachhaltigen und solidarischen Landwirtschaft im Einklang mit Mensch\, Tier und Umwelt. Animal Rebellion Leipzig setzt sich als Aktionsgruppe für die Befreiung von Mensch und Tier ein und sieht den Weg dahin über systemische Veränderung. \n\nDer Vortrag findet im Rahmen des Gegenkongresses gegen den Deutschen Fleischkongress statt. Weitere Infos unter https://kolibri-kollektiv.net/gegenkongress/
URL:https://kolibri-kollektiv.net/termin/gegenkongress-bewegungsuebergreifend-aktiv-werden/
LOCATION:Alte Mensa auf dem Uni-Campus\, Johann-Joachim-Becher-Weg 5\, Mainz\, 55128\, Germany
CATEGORIES:Gegenkongress
ATTACH;FMTTYPE=image/png:https://kolibri-kollektiv.net/wp-content/uploads/2025/11/gegenkongress_ggdt-ar_1.png
END:VEVENT
BEGIN:VEVENT
DTSTART;TZID=Europe/Berlin:20251124T201500
DTEND;TZID=Europe/Berlin:20251124T204500
DTSTAMP:20260419T154234
CREATED:20251116T103014Z
LAST-MODIFIED:20251118T170907Z
UID:1332-1764015300-1764017100@kolibri-kollektiv.net
SUMMARY:GEGENkongress: Wie die Tierindustrie unseren Planeten zerstört
DESCRIPTION:Ökologische und soziale Auswirkungen der Tierausbeutungsindustrie\nVortrag von Chris Rombeck \nWarum ist die Tierindustrie eine der Hauptursachen des Klimawandels? Warum findet sie zu wenig Berücksichtigung in der Klimadebatte? Warum macht es Sinn vor allem bei der Tierindustrie anzusetzen?\nWarum ist die Tierindustrie Hauptursache des Artensterbens und der Regenwaldrodung? Warum hungern Menschen im Globalen Süden durch die Tierindustrie? \nÜber den Referenten\nChris promoviert zu den ökologischen Auswirkungen der Tierindustrie und den Nachhaltigkeitspotenzialen von In-vitro-Fleisch. Er arbeitet mit zahlreichen Tierrechtsorganisationen zusammen. U.a. bietet er Projekttage an Schulen zu Tierethik über das Umweltbildungswerk an. \n\nDer Vortrag findet im Rahmen des Gegenkongresses gegen den Deutschen Fleischkongress statt. Weitere Infos unter https://kolibri-kollektiv.net/gegenkongress/
URL:https://kolibri-kollektiv.net/termin/gegenkongress-wie-die-tierindustrie-unseren-planeten-zerstoert/
LOCATION:Alte Mensa auf dem Uni-Campus\, Johann-Joachim-Becher-Weg 5\, Mainz\, 55128\, Germany
CATEGORIES:Gegenkongress
ATTACH;FMTTYPE=image/png:https://kolibri-kollektiv.net/wp-content/uploads/2025/11/gegenkongress_chris_1.png
END:VEVENT
BEGIN:VEVENT
DTSTART;TZID=Europe/Berlin:20251124T194500
DTEND;TZID=Europe/Berlin:20251124T201500
DTSTAMP:20260419T154234
CREATED:20251116T102520Z
LAST-MODIFIED:20251123T105547Z
UID:1328-1764013500-1764015300@kolibri-kollektiv.net
SUMMARY:GEGENkongress: Wie retten wir 630 Hühner?
DESCRIPTION:Programmänderung\nLeider kann Anna aus gesundheitlichen Gründen nicht am GEGENkongress teilnehmen. Wir zeigen euch daher an dieser Stelle eine brandaktuelle Kurzdoku über ihren Lebenshof Bullerbyn von Team Tierschutz. \n\nVortrag von Anna Ratzinger \nAuf einem Lebenshof muss mensch jeden Tag mit Überraschungen rechnen\, nichts lässt sich 100%ig perfekt planen. Aber auch für Anna war die Anfrage von Team Tierschutz\, ob wir 630 Hühner aus Norddeutschland retten können\, eine Nachricht\, die sie erstmal verdauen musste. Wie die Menschen auf Vegan Bullerbyn mit Hilfe von Dutzenden Helfer*innen aus dem Nichts ein Hühnerparadies erschaffen haben\, darüber erzählt sie in ihrem Vortrag. \nÜber die Referentin\nAnna hat den Lebenshof Vegan Bullerbyn e.V mit aufgebaut. Als „die Stimme des Hofs“ kämpft sie für Gleichwertigkeit allen Lebens und möchte als Tierrechtsaktivistin\, Feministin und Beziehungsanarchistin mit ihrer Arbeit die Welt ein bisschen besser verlassen\, als sie sie betreten hat. \n\nDer Vortrag findet im Rahmen des Gegenkongresses gegen den Deutschen Fleischkongress statt. Weitere Infos unter https://kolibri-kollektiv.net/gegenkongress/
URL:https://kolibri-kollektiv.net/termin/gegenkongress-wie-retten-wir-630-huehner/
LOCATION:Alte Mensa auf dem Uni-Campus\, Johann-Joachim-Becher-Weg 5\, Mainz\, 55128\, Germany
CATEGORIES:Gegenkongress
ATTACH;FMTTYPE=image/png:https://kolibri-kollektiv.net/wp-content/uploads/2025/11/gegenkongress_anna-r_1.png
END:VEVENT
BEGIN:VEVENT
DTSTART;TZID=Europe/Berlin:20251124T191500
DTEND;TZID=Europe/Berlin:20251124T193000
DTSTAMP:20260419T154234
CREATED:20251116T102325Z
LAST-MODIFIED:20251118T162802Z
UID:1326-1764011700-1764012600@kolibri-kollektiv.net
SUMMARY:GEGENkongress: Poetry Slam
DESCRIPTION:Poetry Slam mit Elsa\nWas wäre\, wenn alle vegan Leben würden? \nÜber die Referentin\nElsa (Theresa Aurelia) ist eine Poetry-Slammerin und Aktivistin\, die mit ihren oft politisch-gesellschaftskritischen Texten vor allem Themen wie Tierbefreiung\, Klimagerechtigkeit und Antifaschismus auf die Bühne bringt. \n\nDer Vortrag findet im Rahmen des Gegenkongresses gegen den Deutschen Fleischkongress statt. Weitere Infos unter https://kolibri-kollektiv.net/gegenkongress/
URL:https://kolibri-kollektiv.net/termin/gegenkongress-poetry-slam/
LOCATION:Alte Mensa auf dem Uni-Campus\, Johann-Joachim-Becher-Weg 5\, Mainz\, 55128\, Germany
CATEGORIES:Gegenkongress
ATTACH;FMTTYPE=image/png:https://kolibri-kollektiv.net/wp-content/uploads/2025/11/gegenkongress_elsa_1.png
END:VEVENT
BEGIN:VEVENT
DTSTART;TZID=Europe/Berlin:20251124T184500
DTEND;TZID=Europe/Berlin:20251124T191500
DTSTAMP:20260419T154234
CREATED:20251116T102051Z
LAST-MODIFIED:20251120T124742Z
UID:1323-1764009900-1764011700@kolibri-kollektiv.net
SUMMARY:GEGENkongress: Intersektionalität - über Kapitalismus und Unterdrückung
DESCRIPTION:Vortrag von Racoon (Animal Rebellion) \nZiviler Ungehorsam und Protest erfordern die klare Vision einer besseren Zukunft. Die Fleischindustrie abschaffen – und dann?\nAusbeutungsketten finden sich in allen Bereichen\, in denen Marginalisierte zur Ware gemacht werden. Vorgestellt wird ein Grundverständnis über die Zusammenhänge von Kapitalismus\, Unterdrückung und die Überwindung derselbigen. \nÜber die Referentin\nRacoon ist eine anarchistische systemkritische Aktivistin\, die themenübergreifend mit Protestaktionen\, Blockaden und zivilem Ungehorsam auf die Bereiche Veganismus und Antispeziesismus\, Antifaschismus\, Feminismus und die Klimakatastrophe aufmerksam macht. Die Aufklärung über die Folgen des Kapitalismus liegen dabei im Fokus. \n\nDer Vortrag findet im Rahmen des Gegenkongresses gegen den Deutschen Fleischkongress statt. Weitere Infos unter https://kolibri-kollektiv.net/gegenkongress/
URL:https://kolibri-kollektiv.net/termin/gegenkongress-intersektionalitaet/
LOCATION:Alte Mensa auf dem Uni-Campus\, Johann-Joachim-Becher-Weg 5\, Mainz\, 55128\, Germany
CATEGORIES:Gegenkongress
ATTACH;FMTTYPE=image/png:https://kolibri-kollektiv.net/wp-content/uploads/2025/11/gegenkongress_racoon_1.png
END:VEVENT
BEGIN:VEVENT
DTSTART;TZID=Europe/Berlin:20251124T180000
DTEND;TZID=Europe/Berlin:20251124T183000
DTSTAMP:20260419T154234
CREATED:20251116T101715Z
LAST-MODIFIED:20251118T162938Z
UID:1318-1764007200-1764009000@kolibri-kollektiv.net
SUMMARY:GEGENkongress: Einfach mal die Sau rauslassen
DESCRIPTION:Daten und Fakten zu Fleischproduktion und Fleischkonsum\nVortrag von Alrun Schleiff (Heinrich Böll Stiftung RLP e.V.) \nTiere leiden\, Menschen werden ausgebeutet\, und unsere Lebensgrundlagen gehen verloren – das ist die Bilanz der industriellen Fleischproduktion. Der Vortrag liefert aktuelle Daten und Fakten. Politik und Gesellschaft sind dabei gefordert eine echten Wende herbeizuführen als Schlüssel zu Klima-\, Umwelt- und Tierschutz. \nÜber die Referentin\nAlrun Schleiff arbeitet bei der Heinrich Böll Stiftung Rheinland-Pfalz e.V. und bietet seit mehr als 10 Jahren Bildungsarbeit u.a. rund um das Thema Fleischproduktion und Fleischkonsum an. \n\nDer Vortrag findet im Rahmen des Gegenkongresses gegen den Deutschen Fleischkongress statt. Weitere Infos unter https://kolibri-kollektiv.net/gegenkongress/
URL:https://kolibri-kollektiv.net/termin/gegenkongress-einfach-mal-die-sau-rauslassen/
LOCATION:Alte Mensa auf dem Uni-Campus\, Johann-Joachim-Becher-Weg 5\, Mainz\, 55128\, Germany
CATEGORIES:Gegenkongress
ATTACH;FMTTYPE=image/png:https://kolibri-kollektiv.net/wp-content/uploads/2025/11/gegenkongress_alrun_1.png
END:VEVENT
BEGIN:VEVENT
DTSTART;TZID=Europe/Berlin:20251124T173000
DTEND;TZID=Europe/Berlin:20251124T180000
DTSTAMP:20260419T154234
CREATED:20251116T100617Z
LAST-MODIFIED:20251118T164621Z
UID:1304-1764005400-1764007200@kolibri-kollektiv.net
SUMMARY:GEGENkongress: Gemeinsam gegen den Deutschen Fleischkongress
DESCRIPTION:Das Bündnis gegen den Deutschen Fleischkongress stellt sich vor und präsentiert vergangene und geplante Aktionen gegen das umstrittene Lobbytreffen in der Mainzer Rheingoldhalle. \nÜber das Bündnis\nSeit 2023 organisiert das Bündnis gegen den Deutschen Fleischkongress kreative Protestaktionen. Ihre Petition wurde bereits über 28.000 mal unterschrieben. \n\nDer Vortrag findet im Rahmen des Gegenkongresses gegen den Deutschen Fleischkongress statt. Weitere Infos unter https://kolibri-kollektiv.net/gegenkongress/
URL:https://kolibri-kollektiv.net/termin/gegenkongress-gemeinsam-gegen-den-deutschen-fleischkongress/
LOCATION:Alte Mensa auf dem Uni-Campus\, Johann-Joachim-Becher-Weg 5\, Mainz\, 55128\, Germany
CATEGORIES:Gegenkongress
ATTACH;FMTTYPE=image/png:https://kolibri-kollektiv.net/wp-content/uploads/2025/11/gegenkongress_buendnis_1.png
END:VEVENT
BEGIN:VEVENT
DTSTART;TZID=Europe/Berlin:20251124T170000
DTEND;TZID=Europe/Berlin:20251124T213000
DTSTAMP:20260419T154234
CREATED:20251104T171034Z
LAST-MODIFIED:20251117T105245Z
UID:1265-1764003600-1764019800@kolibri-kollektiv.net
SUMMARY:Der Gegenkongress zum Deutschen Fleischkongress
DESCRIPTION:Ende November soll der Deutsche Fleischkongress bereits zum fünften mal in der Mainzer Rheingoldhalle tagen. Das Bündnis gegen den Deutschen Fleischkongress ruft zum Gegenkongress auf!\n\nAuch dieses Jahr trifft sich im November die Fleisch-Lobby in der Mainzer Rheingoldhalle zum „Deutschen Fleischkongress“ und zelebriert dort eine Industrie\, die auf der Ausbeutung von Menschen\, Tieren und Umwelt beruht.\n\nNachdem die Proteste rund um den Fleischkongress von Jahr zu Jahr immer größer wurden\, geht das Bündnis gegen den Deutschen Fleischkongress nun einen Schritt weiter: Wir organisieren einen Gegenkongress!\n\nIn zahlreichen Vorträgen berichten Umweltorganisationen und Tierrechtsaktivist*innen nicht nur über die desaströsen Auswirkungen der Fleischindustrie und ihren Folgen für Menschen\, Tiere und Umwelt. Sie liefern auch Impulse\, wie wir ins Handeln kommen können und wie wir uns eine bessere Welt ohne Ausbeutung und Leid vorstellen.\n  \n\nOrtsinfo\nDer Gegenkongress wird am Montag dem 24. November (also Vorabend des Fleischkongresses) in Kooperation mit dem AStA in der Alten Mensa auf dem Mainzer Uni-Campus stattfinden – also einen Tag vor Beginn des Fleischkongresses. Der Eintritt ist frei!\n\nAdresse: Alte Mensa\, Raum HS11\, Johann-Joachim-Becher-Weg 5\, 55128 Mainz\n  \n\nProgramm online\nAlle Informationen zum Programm des Gegenkongress findet ihr hier: https://kolibri-kollektiv.net/gegenkongress/\n\n  \n\n\nProtest gegen den Fleischkongress\nNatürlich wird es dieses Jahr auch wieder zahlreiche kreative Protestaktionen gegen den Fleischkongress geben. Die Übersicht aller geplanten Aktionen findet ihr unter https://kolibri-kollektiv.net/fleischkongress/. Die Übersicht wird bis zum Kongressbeginn fortlaufend aktualisiert und ergänzt.
URL:https://kolibri-kollektiv.net/termin/gegenkongress-2025/
LOCATION:Alte Mensa auf dem Uni-Campus\, Johann-Joachim-Becher-Weg 5\, Mainz\, 55128\, Germany
ATTACH;FMTTYPE=image/png:https://kolibri-kollektiv.net/wp-content/uploads/2025/11/gegenkongress_teaser_cover.png
END:VEVENT
BEGIN:VEVENT
DTSTART;TZID=Europe/Berlin:20251102T150000
DTEND;TZID=Europe/Berlin:20251102T163000
DTSTAMP:20260419T154234
CREATED:20251024T070957Z
LAST-MODIFIED:20251101T155021Z
UID:1239-1762095600-1762101000@kolibri-kollektiv.net
SUMMARY:Kolibri-Plenum im November
DESCRIPTION:Unser Plenum immer am 1. Sonntag im Monat statt. Wir treffen uns diesmal wieder in der Waldbesetzung „Banny bleibt!“ im Langener Bannwald. Folgt unseren Kanälen für aktuelle Infos. \nFalls ihr noch nicht im Banny ward und nicht so genau wisst\, wie ihr in den Wald kommt\, meldet euch bei uns bitte rechtzeitig vorher per E-Mail oder auf Instagram.
URL:https://kolibri-kollektiv.net/termin/kolibri-plenum-nov-2025/
LOCATION:Waldbesetzung Banny bleibt\, 50.0059800\, 8.6354300\, Langen\, 63225\, Germany
ATTACH;FMTTYPE=image/jpeg:https://kolibri-kollektiv.net/wp-content/uploads/2025/10/ballsaal_banny-scaled-e1761290091976.jpeg
END:VEVENT
BEGIN:VEVENT
DTSTART;TZID=Europe/Berlin:20251029T201500
DTEND;TZID=Europe/Berlin:20251029T221500
DTSTAMP:20260419T154234
CREATED:20251025T074932Z
LAST-MODIFIED:20251025T074932Z
UID:1243-1761768900-1761776100@kolibri-kollektiv.net
SUMMARY:Dominion im Muschelkino
DESCRIPTION:Am 29.10. zeigt das Muschel-Kino der Uni Mainz den Dokumentarfilm Dominion. \nWer noch immer an den Mythos glücklicher Tiere in artgerechter Bio-Haltung glaubt\, sollte sich Dominion unbedingt anschauen. In schonungslosen Bildern zeigt der Film die vielfältige Ausbeutung sogenannter Nutztiere in unserer Gesellschaft. In der Tierrechtsszene ist die Doku mittlerweile schon fast legendär\, denn sie hat mehr Menschen dazu bewegt\, ihre Ernährungsgewohnheiten zu überdenken wie kaum ein anderer Film. \n\nFilmbeginn: 20:15 Uhr (Einlass: 19:45 Uhr)\nUni-Campus Mainz N2 – Muschel\nEintritt frei\n\nNach dem Film kann bei Kuchen und veganer Pizza noch diskutiert werden. \nNein zum Deutschen Fleischkongress in Mainz! \nEuch gefällt nicht\, was ihr gesehen habt? Dann unterschreibt unsere Petition und kommt zum Protest gegen den Deutschen Fleischkongress in Mainz am 25.11.2025. Mehr Infos demnächst hier:\nhttps://kolibri-kollektiv.net/fleischkongress/
URL:https://kolibri-kollektiv.net/termin/dominion-im-muschelkino/
LOCATION:Uni Mainz N2 – Muschel\, Johann-Joachim-Becher-Weg 21\, Mainz\, 55128\, Germany
ATTACH;FMTTYPE=image/jpeg:https://kolibri-kollektiv.net/wp-content/uploads/2025/10/dominion_muschel.jpeg
END:VEVENT
BEGIN:VEVENT
DTSTART;TZID=Europe/Berlin:20251005T150000
DTEND;TZID=Europe/Berlin:20251005T170000
DTSTAMP:20260419T154234
CREATED:20250814T093014Z
LAST-MODIFIED:20250904T101812Z
UID:1205-1759676400-1759683600@kolibri-kollektiv.net
SUMMARY:Kolibri-Plenum im Langener Bannwald
DESCRIPTION:Unser Plenum immer am 1. Sonntag im Monat statt. Im Oktober treffen wir uns in der Waldbesetzung „Banny bleibt!“ im Langener Bannwald. Dort könnte schon im Oktober geräumt & gerodet werden. \nFalls ihr noch nicht im Banny wart und nicht so genau wisst\, wie ihr in den Wald kommt – meldet euch bei uns bitte rechtzeitig vorher per Mail. \nUpdate: Das Plenum im September enfällt. Stattdessen wird das Oktoberplenum im Banny stattfinden.
URL:https://kolibri-kollektiv.net/termin/kolibri-plenum-im-langener-bannwald/
LOCATION:Waldbesetzung Banny bleibt\, 50.0059800\, 8.6354300\, Langen\, 63225\, Germany
ATTACH;FMTTYPE=image/jpeg:https://kolibri-kollektiv.net/wp-content/uploads/2025/08/kolibri-banny-plenum_7-9-2025.jpg
END:VEVENT
BEGIN:VEVENT
DTSTART;TZID=Europe/Berlin:20250905T183000
DTEND;TZID=Europe/Berlin:20250905T200000
DTSTAMP:20260419T154234
CREATED:20250826T114526Z
LAST-MODIFIED:20250826T120712Z
UID:1214-1757097000-1757102400@kolibri-kollektiv.net
SUMMARY:Vortrag: Wald statt Kies - Banny Bleibt!
DESCRIPTION:Seit Sommer 2024 ist der Langener Bannwald aka „Banny“ besetzt\, um die Rodung von über 60 Hektar Wald für den Kiesabbau der Firma Sehring zu verhindern. \nDer südlich von Frankfurt gelegene Bannwald trägt elementar zu Wasserhaushalt\, Artenvielfalt und Klima sowie Luftreinigung in der Region bei. \nIm Vortrag wollen wir über die Hintergründe des Protests informieren und einen Einblick in das alltägliche Leben in der Waldbesetzung geben. Dabei kommen auch Menschen vom Aktionsbündnis Langener Bannwald und der Waldbesetzung zu Wort. \nDer Banny ist diesen Herbst akut räumungsbedroht! \nDenn der nächste Waldabschnitt soll noch in der kommenden Rodungssaison zerstört werden. Wir wollen daher auch eine Möglichkeit zur Vernetzung und zum Austausch bieten\, um selbst aktiv zu werden. \n\nMehr Links Infos zum Kampf um den Langener Bannwald findet ihr hier https://wald-statt-asphalt.net/bannwald-langen/
URL:https://kolibri-kollektiv.net/termin/vortrag-wald-statt-kies-banny-bleibt/
LOCATION:Infoladen Ella Janecek\, Zanggasse 21\, Mainz\, 55116\, Deutschland
ATTACH;FMTTYPE=image/jpeg:https://kolibri-kollektiv.net/wp-content/uploads/2025/08/banny_vortrag_05-09-2025.jpeg
END:VEVENT
BEGIN:VEVENT
DTSTART;TZID=Europe/Berlin:20250819T163000
DTEND;TZID=Europe/Berlin:20250819T180000
DTSTAMP:20260419T154234
CREATED:20250722T132317Z
LAST-MODIFIED:20250722T133750Z
UID:1174-1755621000-1755626400@kolibri-kollektiv.net
SUMMARY:Gemeinsam gegen den "Deutschen Fleischkongress"
DESCRIPTION:Vortrag & Vernetzung auf dem System Change Camp in Frankfurt am Main\nAuch dieses Jahr soll das Rhein-Main-Gebiet für zwei Tage wieder zum bundesweiten Hotspot der Fleischindustrie werden: Beim „Deutschen Fleischkongress“ soll am 25. und 26. November wieder das „Who is who“ der Branche in der Mainzer Rheingoldhalle zusammenkommen um dort eine Industrie zu feiern\, die in ihrem Kern auf der Ausbeutung von Menschen\, Tieren und Umwelt beruht. \nDas Bündnis gegen den Deutschen Fleischkongress hat dem ominösen Lobbytreffen den Kampf angesagt und wird auch dieses Jahr wieder zum Protest aufrufen. Unser diesjähriges Motto: Der letzte Fleischkongress in Mainz! \nIn unserem Vortrags berichten wir über die bisherigen Aktionen gegen den Fleischkongress und unsere Ideen für die diesjährige Kampagne. Damit unser Bündnis größer und vielfältiger wird\, bieten wir euch anschließend die Möglichkeit euch mit uns zu vernetzen und euch dem Protest anzuschließen.
URL:https://kolibri-kollektiv.net/termin/gemeinsam-gegen-den-deutschen-fleischkongress/
LOCATION:System Change Camp\, Grüneburgpark\, Frankfurt am Main\, 60323\, Germany
ATTACH;FMTTYPE=image/png:https://kolibri-kollektiv.net/wp-content/uploads/2025/07/dfk-vortrag-scc_19-08-2025.png
END:VEVENT
BEGIN:VEVENT
DTSTART;TZID=Europe/Berlin:20250803T150000
DTEND;TZID=Europe/Berlin:20250803T163000
DTSTAMP:20260419T154234
CREATED:20250521T131855Z
LAST-MODIFIED:20250521T131855Z
UID:1163-1754233200-1754238600@kolibri-kollektiv.net
SUMMARY:Kolibri-Plenum am 3. August
DESCRIPTION:Unser Plenum immer am 1. Sonntag im Monat statt. \nWir treffen uns wie üblich im Infoladen Ella Janecek in der Zanggasse und freuen uns über alte und neue Gesichter!
URL:https://kolibri-kollektiv.net/termin/kolibri-plenum-03-08-2025/
LOCATION:Infoladen Ella Janecek\, Zanggasse 21\, Mainz\, 55116\, Deutschland
ATTACH;FMTTYPE=image/jpeg:https://kolibri-kollektiv.net/wp-content/uploads/2025/05/photo_2025-05-17_08-32-58.jpg
END:VEVENT
END:VCALENDAR