BEGIN:VCALENDAR
VERSION:2.0
PRODID:-//Kolibri-Kollektiv - ECPv6.3.3.1//NONSGML v1.0//EN
CALSCALE:GREGORIAN
METHOD:PUBLISH
X-ORIGINAL-URL:https://kolibri-kollektiv.net
X-WR-CALDESC:Veranstaltungen für Kolibri-Kollektiv
REFRESH-INTERVAL;VALUE=DURATION:PT1H
X-Robots-Tag:noindex
X-PUBLISHED-TTL:PT1H
BEGIN:VTIMEZONE
TZID:Europe/Berlin
BEGIN:DAYLIGHT
TZOFFSETFROM:+0100
TZOFFSETTO:+0200
TZNAME:CEST
DTSTART:20230326T010000
END:DAYLIGHT
BEGIN:STANDARD
TZOFFSETFROM:+0200
TZOFFSETTO:+0100
TZNAME:CET
DTSTART:20231029T010000
END:STANDARD
BEGIN:DAYLIGHT
TZOFFSETFROM:+0100
TZOFFSETTO:+0200
TZNAME:CEST
DTSTART:20240331T010000
END:DAYLIGHT
BEGIN:STANDARD
TZOFFSETFROM:+0200
TZOFFSETTO:+0100
TZNAME:CET
DTSTART:20241027T010000
END:STANDARD
END:VTIMEZONE
BEGIN:VEVENT
DTSTART;TZID=Europe/Berlin:20240210T110000
DTEND;TZID=Europe/Berlin:20240210T120000
DTSTAMP:20240306T114607
CREATED:20240209T190311Z
LAST-MODIFIED:20240209T190410Z
UID:678-1707562800-1707566400@kolibri-kollektiv.net
SUMMARY:Baumfällungen in Mainz-Finthen: Spontane Kundgebung
DESCRIPTION:Anlässlich des heutigen Rodungsbeginns rund um die Peter-Härtling-Schule in Finthen ruft die Bürger:innen-Initiative am Sa\, 10.02. um 11 Uhr zu einer spontanen Kundgebung auf. \nOrt: Bushaltestelle Ludwig-Schwamb-Straße vor der Peter-Härtling-Schule in Mainz-Finthen \nNoch stehen die großen Bäume aber kein Mensch weiß\, wie lange noch. Also kommt also zahlreich und setzt ein Zeichen gegen diese sinnlose Zerstörung! \nFür die Rodungen verantwortlich ist nebenbei der Forstbetrieb Andreas Jäger (https://www.forstbetrieb-jaeger.de/) aus Steinbach. Teilt ihnen gerne mit\, was ihr von ihrem Einsatz in Finthen haltet!\nTel: +49 6171 979111 / +49 170 851 0005\nE-Mail: info@forstbetrieb-jaeger.de
URL:https://kolibri-kollektiv.net/termin/baumfaellungen-in-mainz-finthen-spontane-kundgebung/
LOCATION:Peter-Härtling-Schule\, Ludwig-Schwamb-Straße 50\, Mainz-Finthen\, 55126\, Deutschland
ATTACH;FMTTYPE=image/png:https://kolibri-kollektiv.net/wp-content/uploads/2024/02/finthen_kundgebung_2024-02-10.png
END:VEVENT
BEGIN:VEVENT
DTSTART;TZID=Europe/Berlin:20240131T150000
DTEND;TZID=Europe/Berlin:20240131T210000
DTSTAMP:20240306T114607
CREATED:20240126T160645Z
LAST-MODIFIED:20240126T160708Z
UID:660-1706713200-1706734800@kolibri-kollektiv.net
SUMMARY:Mainzer Stadtratsitzung berät über Fleischkongress
DESCRIPTION:In der kommenden Sitzung des Mainzer Stadtrats am 31.01. wird auch das Thema Fleischkongress auf der Tagesordnung stehen – und unsere Petition gegen den Kongress. \nAuf die Agenda brachte das Thema die Mainzer ödp\, die anfragt\, was aus der angekündigten Prüfung unserer Petition geworden ist und in wie weit die Ausrichtung des Treffens der Fleischbranchenriesen mit den Umweltrichtlinien der Fair Trade Stadt Mainz vereinbar ist. \nDie Fragen sind mehr als berechtigt\, denn seit der Übergabe unserer Petition am 21.11. haben wir nichts mehr von Manuela Matz gehört. Und auch OB Haase hält sich weiterhin gekonnt bedeckt. Höchste Zeit also\, dass sich die Stadt Mainz zu unserer Forderung positioniert\, denn der nächste Fleischkongress in Mainz wurde bereits angekündigt. \nDie Sitzung beginnt am kommenden Mittwoch um 15 Uhr in der Mainzer Rheingoldhalle. Kommt gerne dazu! \nGemeinsam sagen wir: NEIN zum Deutschen Fleischkongress in Mainz!
URL:https://kolibri-kollektiv.net/termin/mainzer-stadtratsitzung-beraet-ueber-fleischkongress/
LOCATION:Rheingoldhalle Mainz\, Rheinstraße 66\, Mainz\, 55116\, Deutschland
ATTACH;FMTTYPE=image/png:https://kolibri-kollektiv.net/wp-content/uploads/2024/01/stadtratsitzung-mz_2024-01-31.png
END:VEVENT
BEGIN:VEVENT
DTSTART;TZID=Europe/Berlin:20240121T170000
DTEND;TZID=Europe/Berlin:20240121T183000
DTSTAMP:20240306T114607
CREATED:20240119T153503Z
LAST-MODIFIED:20240119T153503Z
UID:658-1705856400-1705861800@kolibri-kollektiv.net
SUMMARY:Kolibri-Plenum am 21.01.
DESCRIPTION:Jeden zweiten Sonntag treffen wir uns zum Plenum im Haus Mainusch.
URL:https://kolibri-kollektiv.net/termin/kolibri-plenum_21-01-2023/
LOCATION:Haus Mainusch\, Staudingerweg 23\, Mainz\, 55120\, Deutschland
ATTACH;FMTTYPE=image/png:https://kolibri-kollektiv.net/wp-content/uploads/2022/11/koliko_plenum-e1668350861369.png
END:VEVENT
BEGIN:VEVENT
DTSTART;TZID=Europe/Berlin:20240107T170000
DTEND;TZID=Europe/Berlin:20240107T183000
DTSTAMP:20240306T114607
CREATED:20240102T125829Z
LAST-MODIFIED:20240106T100213Z
UID:654-1704646800-1704652200@kolibri-kollektiv.net
SUMMARY:Abgesagt: Kolibri-Plenum am 7.01.
DESCRIPTION:Auf Grund zahlreicher Krankheitsausfälle muss das Plenum leider abgesagt werden.
URL:https://kolibri-kollektiv.net/termin/kolibri-plenum_07-01-24/
LOCATION:Haus Mainusch\, Staudingerweg 23\, Mainz\, 55120\, Deutschland
ATTACH;FMTTYPE=image/png:https://kolibri-kollektiv.net/wp-content/uploads/2022/11/koliko_plenum-e1668350861369.png
END:VEVENT
BEGIN:VEVENT
DTSTART;TZID=Europe/Berlin:20231121T170000
DTEND;TZID=Europe/Berlin:20231121T170000
DTSTAMP:20240306T114607
CREATED:20231027T105421Z
LAST-MODIFIED:20231027T113354Z
UID:600-1700586000-1700586000@kolibri-kollektiv.net
SUMMARY:Gemeinsam gegen den Fleischkongress in Mainz: Protestkundgebung
DESCRIPTION:Bald ist es so weit. Am 21. & 22. November soll der Deutsche Fleischkongress wieder in der Mainzer Rheingoldhalle stattfinden. Die Stadt Mainz wird damit erneut zum Austragungsort des wichtigsten Branchentreffens einer Industrie\, die in ihrem Kern ganz wesentlich auf der Ausbeutung von Menschen\, Tieren und Umwelt beruht. \nAuch dieses Jahr wird sich auf dem Kongress wieder alles um Gewinnmaximierung und Greenwashing drehen. Die desaströsen Auswirkungen der Fleischindustrie auf die Klimakatastrophe und das Artensterben werden dabei ebenso gekonnt ignoriert\, wie die katastrophalen Arbeitsbedingungen in den Schlacht- und Zerlegebetrieben und nicht zuletzt das unbeschreibliche Leid unzähliger fühlender Lebewesen. \nAber nicht mit uns! Am 21. November – zum Auftakt des Fleischkongresses – rufen wir zum Protest auf! \nAb 17 Uhr versammeln wir uns auf dem Jockel-Fuchs-Platz zwischen der Mainzer Rheingoldhalle und dem Rathaus. Gemeinsam werden wir den Vertreter:innen der Fleischindustrie unmissverständlich mitteilen\, dass sie bei uns in Mainz nicht willkommen sind! \nAuch die Empfänger:innen unserer Petition\, Wirtschaftsdezernentin Manuela Matz (CDU) und Oberbürgermeister Nino Haase\, werden wir an ihre lokale und globale Verantwortung erinnern. Gemeinsam werden wir sie auffordern\, dem Deutschen Fleischkongress in der „Fair Trade Stadt“ Mainz nicht länger eine Bühne zu bieten. \nMehr Infos zum Ablauf und Programm folgen im Laufe der kommenden Wochen. \nSeid am 21.11. in Mainz mit dabei und sagt gemeinsam mit uns: NEIN zum Deutschen Fleischkongress in Mainz!
URL:https://kolibri-kollektiv.net/termin/gemeinsam-gegen-den-fleischkongress-in-mainz-protestkundgebung/
LOCATION:Jockel-Fuchs-Platz\, Jockel-Fuchs-Platz\, Mainz\, 55116\, Germany
ATTACH;FMTTYPE=image/png:https://kolibri-kollektiv.net/wp-content/uploads/2023/10/dfk_kundgebung_2023-11-21.png
END:VEVENT
BEGIN:VEVENT
DTSTART;TZID=Europe/Berlin:20231029T180000
DTEND;TZID=Europe/Berlin:20231029T193000
DTSTAMP:20240306T114607
CREATED:20231029T114139Z
LAST-MODIFIED:20231029T114139Z
UID:609-1698602400-1698607800@kolibri-kollektiv.net
SUMMARY:Kolibri-Plenum am 29.10.
DESCRIPTION:Jeden zweiten Sonntag treffen wir uns zum Plenum im Haus Mainusch.
URL:https://kolibri-kollektiv.net/termin/kolibri-plenum_29-10-23/
LOCATION:Haus Mainusch\, Staudingerweg 23\, Mainz\, 55120\, Deutschland
ATTACH;FMTTYPE=image/png:https://kolibri-kollektiv.net/wp-content/uploads/2022/11/koliko_plenum-e1668350861369.png
END:VEVENT
BEGIN:VEVENT
DTSTART;TZID=Europe/Berlin:20231021T180000
DTEND;TZID=Europe/Berlin:20231021T180000
DTSTAMP:20240306T114607
CREATED:20231004T160338Z
LAST-MODIFIED:20231017T155959Z
UID:580-1697911200-1697911200@kolibri-kollektiv.net
SUMMARY:Anders satt: Wie der Ausstieg aus der Tierindustrie gelingt (Vortrag & Livestream)
DESCRIPTION:Vortrag & Diskussion mit Dr. Friederike Schmitz\nDie Tierindustrie befeuert die Klimakrise und das Artensterben\, fügt Tieren furchtbare Qualen zu und gefährdet unsere Gesundheit. Wie kann es sein\, dass das wichtigste Treffen der Deutschen Fleischindustrie ausgerechnet in der Fair Trade statt Mainz stattfindet\, welche noch 2019 offiziell den Klimanotstand ausgerufen hat? Die enorme Unterstützung unserer Petition „Nein zum Deutschen Fleischkongress in Mainz“ zeigt\, dass diese Frage viele Menschen bewegt. \nWir freuen uns daher sehr\, am 21. Oktober die bekannte Autorin und Tierethikerin Dr. Friederike Schmitz bei uns in Mainz begrüßen zu dürfen. In ihrem Vortrag „Anders satt: Wie der Ausstieg aus der Tierindustrie gelingt“ erklärt sie uns\, weshalb eine grundlegende Transformation unseres Ernährungssystems unerlässlich ist und was wir dabei gewinnen können. \nDabei stellt sie fest: Es reicht nicht\, wenn Einzelne bewusster konsumieren. Kleine Reformen hin zu etwas mehr »Tierwohl« oder Klimaschutz sind ebenfalls keine Lösung. Stattdessen brauchen wir einen politisch organisierten Ausstieg aus der Tierindustrie. Eine sinnvolle Ernährungspolitik kann den Konsum von Fleisch\, Milch und Eiern auf demokratische Weise schnell reduzieren. Durch Umschichtung von Subventionen und Gesetzesänderungen lässt sich auch eine gerechte Agrarwende gestalten. \nDie Vorteile sind gewaltig: Wenn wir auf pflanzliche Nahrungsmittel setzen\, können wir gesünder leben\, Treibhausgase in Böden und Wäldern einlagern und ein besseres Verhältnis zu Tieren entwickeln. Damit all dies passiert\, müssen wir uns politisch einmischen. Friedericke liefert dazu Fakten und Lösungsvorschläge – und neue Impulse für die gesellschaftliche Debatte. \nIm Anschluss an den Vortrag wird es Raum für Fragen und Diskussion geben. \nDer Eintritt ist kostenfrei. Vegane Snacks und Getränke gibt es gegen Spende. \nUpdate: Jetzt auch im Livestream\nAuf Grund zahlreicher Anfragen werden wir den Vortrag auch als Livestream auf YouTube bereitstellen. Danke an Der Pilger für die Unterstützung. \nHier geht’s zum Stream.
URL:https://kolibri-kollektiv.net/termin/anders-satt-wie-der-ausstieg-aus-der-tierindustrie-gelingt/
LOCATION:Coworking-M1\, Anni-Eisler-Lehmann-Straße 3\, Mainz\, 55122
ATTACH;FMTTYPE=image/png:https://kolibri-kollektiv.net/wp-content/uploads/2023/10/anders_satt_vortrag_mainz.png
END:VEVENT
BEGIN:VEVENT
DTSTART;TZID=Europe/Berlin:20231015T180000
DTEND;TZID=Europe/Berlin:20231015T193000
DTSTAMP:20240306T114607
CREATED:20231011T175515Z
LAST-MODIFIED:20231011T175515Z
UID:590-1697392800-1697398200@kolibri-kollektiv.net
SUMMARY:Kolibri-Plenum am 15.10.
DESCRIPTION:Jeden zweiten Sonntag treffen wir uns zum Plenum im Haus Mainusch.
URL:https://kolibri-kollektiv.net/termin/kolibri-plenum_15-10-23/
LOCATION:Haus Mainusch\, Staudingerweg 23\, Mainz\, 55120\, Deutschland
ATTACH;FMTTYPE=image/png:https://kolibri-kollektiv.net/wp-content/uploads/2022/11/koliko_plenum-e1668350861369.png
END:VEVENT
BEGIN:VEVENT
DTSTART;TZID=Europe/Berlin:20230917T180000
DTEND;TZID=Europe/Berlin:20230917T193000
DTSTAMP:20240306T114607
CREATED:20230916T094511Z
LAST-MODIFIED:20230916T094511Z
UID:574-1694973600-1694979000@kolibri-kollektiv.net
SUMMARY:Kolibri-Plenum am 17.09.
DESCRIPTION:Jeden zweiten Sonntag treffen wir uns zum Plenum im Haus Mainusch.
URL:https://kolibri-kollektiv.net/termin/kolibri-plenum_17-09-23/
ATTACH;FMTTYPE=image/png:https://kolibri-kollektiv.net/wp-content/uploads/2022/11/koliko_plenum-e1668350861369.png
END:VEVENT
BEGIN:VEVENT
DTSTART;TZID=Europe/Berlin:20230903T190000
DTEND;TZID=Europe/Berlin:20230903T203000
DTSTAMP:20240306T114607
CREATED:20230901T084522Z
LAST-MODIFIED:20230901T084522Z
UID:570-1693767600-1693773000@kolibri-kollektiv.net
SUMMARY:Kolibri-Plenum am 03.09.
DESCRIPTION:Jeden zweiten Sonntag treffen wir uns zum Plenum im Haus Mainusch.
URL:https://kolibri-kollektiv.net/termin/kolibri-plenum_03-09-23/
LOCATION:Haus Mainusch\, Staudingerweg 23\, Mainz\, 55120\, Deutschland
ATTACH;FMTTYPE=image/png:https://kolibri-kollektiv.net/wp-content/uploads/2022/11/koliko_plenum-e1668350861369.png
END:VEVENT
BEGIN:VEVENT
DTSTART;TZID=Europe/Berlin:20230903T123000
DTEND;TZID=Europe/Berlin:20230903T173000
DTSTAMP:20240306T114607
CREATED:20230812T130401Z
LAST-MODIFIED:20230814T110717Z
UID:540-1693744200-1693762200@kolibri-kollektiv.net
SUMMARY:Aktionstraining
DESCRIPTION:Egal ob bei den Anti-Kohle-Protesten von Ende Gelände antifaschistischen Demos oder den Aktionen gegen die Autoindustrie von Sand im Getriebe  – ziviler Ungehorsam\, also das bewusste Überschreiten gesetzlicher Grenzen\, ist ein bewährtes Protestmittel. Kurz vor den Protesten gegen die IAA bieten wir wieder ein Aktions-Basistraining an. \nDas Training soll mehr Menschen den Zugang zu direkten Aktionen ermöglichen. In praktischen Übungen und Rollenspielen lernt ihr\, wie sich bestimmte Situationen anfühlen und wie ihr auch in stressigen Situationen richtig reagiert. Ziel des Trainings ist es\, dass alle sicher und gut vorbereitet an der nächsten Aktion teilnehmen können. \nIm Anschluss an das Training bleibt noch Raum für Austausch und Bezugsgruppenbildung im Hinblick auf die IAA. \nDamit wir besser planen können\, freuen wir uns über eine Anmeldung vorab.
URL:https://kolibri-kollektiv.net/termin/aktionstraining-iaa/
LOCATION:Haus Mainusch\, Staudingerweg 23\, Mainz\, 55120\, Deutschland
ATTACH;FMTTYPE=image/png:https://kolibri-kollektiv.net/wp-content/uploads/2023/08/Block-IAA-Aktionstraining-1.png
END:VEVENT
BEGIN:VEVENT
DTSTART;TZID=Europe/Berlin:20230827T180000
DTEND;TZID=Europe/Berlin:20230827T200000
DTSTAMP:20240306T114607
CREATED:20230728T145716Z
LAST-MODIFIED:20230818T091348Z
UID:509-1693159200-1693166400@kolibri-kollektiv.net
SUMMARY:Block IAA! Infoabend
DESCRIPTION:Ungebremst steuern wir auf eine Klimakatastrophe zu – und die Autokonzerne drücken weiter aufs Gaspedal: Immer mehr Autos\, immer größer und schwerer\, verstopfen die Straßen\, nehmen uns die Luft zum Atmen und heizen das Klima an. Damit muss jetzt Schluss sein! \nVom 5. – 10.09.2023 feiert sich die Autoindustrie auf der Internationen Automobil-Ausstellung in München. Unter dem Motto #blockIAA rufen Sand im Getriebe und viele weitere Akteure der Klimabewegung nun dazu auf\, die Messe zu blockieren und uns im September dem „Carpitalismus“ in München gemeinsam entschlossen entgegenzustellen. \nWarum das notwendig ist\, wie ihr euch eine solche Aktion vorstellen könnt und was euch alles auf dem Mobiwende-Camp in München erwartet\, erfahrt ihr auf unserem Infoabend „Block IAA!“. \nFür alle\, die sich den Protesten in München anschließen wollen\, bieten wir zudem am 03.09. um 12:30 ein Aktionstraining im Haus Mainusch an. \nWir freuen uns auf euch! \n 
URL:https://kolibri-kollektiv.net/termin/block-iaa-infoabend/
LOCATION:Infoladen Ella Janecek\, Zanggasse 21\, Mainz\, 55116\, Deutschland
ATTACH;FMTTYPE=image/jpeg:https://kolibri-kollektiv.net/wp-content/uploads/2023/07/Block-IAA-Mobivortrag.jpg
END:VEVENT
BEGIN:VEVENT
DTSTART;TZID=Europe/Berlin:20230825T180000
DTEND;TZID=Europe/Berlin:20230825T180000
DTSTAMP:20240306T114607
CREATED:20230821T173113Z
LAST-MODIFIED:20230821T180748Z
UID:551-1692986400-1692986400@kolibri-kollektiv.net
SUMMARY:Offene Klimakneipe im F-Minthe
DESCRIPTION:Was passiert gerade in der Klimabewegung in Mainz und Wiesbaden oder auch überregional? Welche Gruppen gibt es und was sind aktuelle Projekte und Ideen? \nWer Lust hat sich ungezwungen bei einer Mate oder einem Bier auszutauschen und zu vernetzen oder auch einfach entspannt mit Freund*innen plaudern will ist herzlich eingeladen zur Offenen Klimakneipe. \nDiesmal treffen wir uns im Biergarten F-Minthe am Mainzer Zollhafen. Wir freuen uns auf euch!
URL:https://kolibri-kollektiv.net/termin/offene-klimakneipe-im-f-minthe/
LOCATION:F-Minthe\, Getreidespricher 5\, Mainz\, 55120
ATTACH;FMTTYPE=image/png:https://kolibri-kollektiv.net/wp-content/uploads/2023/08/Offene-Klima-Kneipe.png
END:VEVENT
BEGIN:VEVENT
DTSTART;TZID=Europe/Berlin:20230820T180000
DTEND;TZID=Europe/Berlin:20230820T180000
DTSTAMP:20240306T114607
CREATED:20230807T140318Z
LAST-MODIFIED:20230807T140529Z
UID:519-1692554400-1692554400@kolibri-kollektiv.net
SUMMARY:Kolibri-Plenum am 20.08.23
DESCRIPTION:Jeden zweiten Sonntag treffen wir uns zum Plenum im Haus Mainusch.
URL:https://kolibri-kollektiv.net/termin/kolibri-plenum_20-08-23/
LOCATION:Haus Mainusch\, Staudingerweg 23\, Mainz\, 55120\, Deutschland
ATTACH;FMTTYPE=image/png:https://kolibri-kollektiv.net/wp-content/uploads/2022/11/koliko_plenum-e1668350861369.png
END:VEVENT
BEGIN:VEVENT
DTSTART;TZID=Europe/Berlin:20230813T100000
DTEND;TZID=Europe/Berlin:20230813T100000
DTSTAMP:20240306T114607
CREATED:20230726T172344Z
LAST-MODIFIED:20230810T181827Z
UID:503-1691920800-1691920800@kolibri-kollektiv.net
SUMMARY:Wissing kommt nach Wiesbaden - wir auch!
DESCRIPTION:Am 13.08. kommt Bundesverkehrsminister Wissing in Begleitung des hessischen Verkehrsministers Tarek Al-Wazir nach Wiesbaden\, um die Schiersteiner Brücke zu eröffnen. Über diese Autobahnbrücke führt die A643 von Mainz nach Wiesbaden und umgekehrt. \nWenn es nach Wissing geht\, sollen die A643 und die A60 rund um Mainz ausgebaut werden\, wodurch sowohl der Mainzer Sand als auch der Lennebergwald bedroht sind. \nWir sagen: Die Zementierung geschützter Naturflächen inmitten der eskalierenden Klimakrise ist ein politischer Totalausfall! \nWir fordern: Autobahnbau stoppen – Wald & Sand statt Asphalt! \nGemeinsam mit dem Bündnis „Nix in den (Mainzer) Sand setzen!“ werden wir Herrn Wissing am 13.8. mitteilen\, was wir von seiner Verkehrspolitik halten. Kommt vorbei & macht mit! \nUpdate 09.08.2023: \nDie Kundgebung wird im Hafenweg\, westlich vom Brückenkopf und somit in unmittelbarer Nähe der Eröffnungsfeier stattfinden. Genau dort werden die Teilnehmenden der Eröffnungsfeier ankommen! Lasst uns gemeinsam laut sein und Volker Wissing und seinen Gästen mitteilen\, was wir von seiner Verkehrspolitik halten! \nUpdate 10.08.2023: \nMenschen\, die von Mainz mit dem Rad nach Schierstein fahren wollen\, haben dazu aufgerufen\, sich ihnen anzuschließen. Treffpunkt ist am Sonntag um 9 Uhr am Fischtorplatz. Siehe Termin. \n 
URL:https://kolibri-kollektiv.net/termin/wissing-kommt-nach-wiesbaden/
LOCATION:Brückenkopf Schierstein\, Hafenweg\, Wiesbaden\, 65201
ATTACH;FMTTYPE=image/png:https://kolibri-kollektiv.net/wp-content/uploads/2023/07/Sharepic_Kundgebung_13.08.2023.png
END:VEVENT
BEGIN:VEVENT
DTSTART;TZID=Europe/Berlin:20230813T090000
DTEND;TZID=Europe/Berlin:20230813T100000
DTSTAMP:20240306T114607
CREATED:20230810T181428Z
LAST-MODIFIED:20230811T070223Z
UID:528-1691917200-1691920800@kolibri-kollektiv.net
SUMMARY:Gemeinsam mit dem Rad zur Kundgebung in Schierstein
DESCRIPTION:Am Sonntag kommt Bundesverkehrsminister Wissing nach WI-Schierstein um die neue Autobahnbrücke einzuweihen. Wissing missachtet seine Klimaziele und macht Politik für die Autolobby. Wenn es nach ihm geht\, sollen die A643 und A60 im Mainzer Sand und Lennebergwald schon bald auf 6 Spuren ausgebaut werden. \nAber nicht mit uns! \nAb 10 Uhr findet eine Protestkundgebung im angrenzenden Hafenweg in Schierstein statt. Menschen\, die von Mainz mit dem Rad nach Schierstein fahren wollen\, haben dazu aufgerufen\, sich ihnen anzuschließen. \nTreffpunkt ist am Sonntag um 9 Uhr am Fischtorplatz in Mainz \nSeid dabei und zeigt Volker Wissing\, wie eine echte Mobilitätswende aussieht! \nHier gehts zum Aufruf der Kundgebung
URL:https://kolibri-kollektiv.net/termin/gemeinsam-mit-dem-rad-zur-kundgebung/
LOCATION:Fischtorplatz\, Fischtorplatz\, Mainz\, 55116
ATTACH;FMTTYPE=image/png:https://kolibri-kollektiv.net/wp-content/uploads/2023/08/3.png
END:VEVENT
BEGIN:VEVENT
DTSTART;TZID=Europe/Berlin:20230730T170000
DTEND;TZID=Europe/Berlin:20230730T190000
DTSTAMP:20240306T114607
CREATED:20230723T170634Z
LAST-MODIFIED:20230723T181235Z
UID:498-1690736400-1690743600@kolibri-kollektiv.net
SUMMARY:Kolibri-Plenum am 30.07.23
DESCRIPTION:Jeden zweiten Sonntag treffen wir uns zum Plenum im Haus Mainusch. Diesmal starten wir um 17 Uhr mit dem regulären Plenum. Nach einer kurzen Pause geht es ab 18 Uhr weiter mit einem Input zum Thema Tierindustrie.
URL:https://kolibri-kollektiv.net/termin/kolibri-plenum_30-07-23/
LOCATION:Haus Mainusch\, Staudingerweg 23\, Mainz\, 55120\, Deutschland
ATTACH;FMTTYPE=image/png:https://kolibri-kollektiv.net/wp-content/uploads/2022/11/koliko_plenum-e1668350861369.png
END:VEVENT
END:VCALENDAR