BEGIN:VCALENDAR
VERSION:2.0
PRODID:-//Kolibri-Kollektiv - ECPv6.3.3.1//NONSGML v1.0//EN
CALSCALE:GREGORIAN
METHOD:PUBLISH
X-ORIGINAL-URL:https://kolibri-kollektiv.net
X-WR-CALDESC:Veranstaltungen für Kolibri-Kollektiv
REFRESH-INTERVAL;VALUE=DURATION:PT1H
X-Robots-Tag:noindex
X-PUBLISHED-TTL:PT1H
BEGIN:VTIMEZONE
TZID:Europe/Berlin
BEGIN:DAYLIGHT
TZOFFSETFROM:+0100
TZOFFSETTO:+0200
TZNAME:CEST
DTSTART:20230326T010000
END:DAYLIGHT
BEGIN:STANDARD
TZOFFSETFROM:+0200
TZOFFSETTO:+0100
TZNAME:CET
DTSTART:20231029T010000
END:STANDARD
END:VTIMEZONE
BEGIN:VEVENT
DTSTART;TZID=Europe/Berlin:20230825T180000
DTEND;TZID=Europe/Berlin:20230825T180000
DTSTAMP:20240306T115709
CREATED:20230821T173113Z
LAST-MODIFIED:20230821T180748Z
UID:551-1692986400-1692986400@kolibri-kollektiv.net
SUMMARY:Offene Klimakneipe im F-Minthe
DESCRIPTION:Was passiert gerade in der Klimabewegung in Mainz und Wiesbaden oder auch überregional? Welche Gruppen gibt es und was sind aktuelle Projekte und Ideen? \nWer Lust hat sich ungezwungen bei einer Mate oder einem Bier auszutauschen und zu vernetzen oder auch einfach entspannt mit Freund*innen plaudern will ist herzlich eingeladen zur Offenen Klimakneipe. \nDiesmal treffen wir uns im Biergarten F-Minthe am Mainzer Zollhafen. Wir freuen uns auf euch!
URL:https://kolibri-kollektiv.net/termin/offene-klimakneipe-im-f-minthe/
LOCATION:F-Minthe\, Getreidespricher 5\, Mainz\, 55120
ATTACH;FMTTYPE=image/png:https://kolibri-kollektiv.net/wp-content/uploads/2023/08/Offene-Klima-Kneipe.png
END:VEVENT
BEGIN:VEVENT
DTSTART;TZID=Europe/Berlin:20230820T180000
DTEND;TZID=Europe/Berlin:20230820T180000
DTSTAMP:20240306T115709
CREATED:20230807T140318Z
LAST-MODIFIED:20230807T140529Z
UID:519-1692554400-1692554400@kolibri-kollektiv.net
SUMMARY:Kolibri-Plenum am 20.08.23
DESCRIPTION:Jeden zweiten Sonntag treffen wir uns zum Plenum im Haus Mainusch.
URL:https://kolibri-kollektiv.net/termin/kolibri-plenum_20-08-23/
LOCATION:Haus Mainusch\, Staudingerweg 23\, Mainz\, 55120\, Deutschland
ATTACH;FMTTYPE=image/png:https://kolibri-kollektiv.net/wp-content/uploads/2022/11/koliko_plenum-e1668350861369.png
END:VEVENT
BEGIN:VEVENT
DTSTART;TZID=Europe/Berlin:20230813T100000
DTEND;TZID=Europe/Berlin:20230813T100000
DTSTAMP:20240306T115709
CREATED:20230726T172344Z
LAST-MODIFIED:20230810T181827Z
UID:503-1691920800-1691920800@kolibri-kollektiv.net
SUMMARY:Wissing kommt nach Wiesbaden - wir auch!
DESCRIPTION:Am 13.08. kommt Bundesverkehrsminister Wissing in Begleitung des hessischen Verkehrsministers Tarek Al-Wazir nach Wiesbaden\, um die Schiersteiner Brücke zu eröffnen. Über diese Autobahnbrücke führt die A643 von Mainz nach Wiesbaden und umgekehrt. \nWenn es nach Wissing geht\, sollen die A643 und die A60 rund um Mainz ausgebaut werden\, wodurch sowohl der Mainzer Sand als auch der Lennebergwald bedroht sind. \nWir sagen: Die Zementierung geschützter Naturflächen inmitten der eskalierenden Klimakrise ist ein politischer Totalausfall! \nWir fordern: Autobahnbau stoppen – Wald & Sand statt Asphalt! \nGemeinsam mit dem Bündnis „Nix in den (Mainzer) Sand setzen!“ werden wir Herrn Wissing am 13.8. mitteilen\, was wir von seiner Verkehrspolitik halten. Kommt vorbei & macht mit! \nUpdate 09.08.2023: \nDie Kundgebung wird im Hafenweg\, westlich vom Brückenkopf und somit in unmittelbarer Nähe der Eröffnungsfeier stattfinden. Genau dort werden die Teilnehmenden der Eröffnungsfeier ankommen! Lasst uns gemeinsam laut sein und Volker Wissing und seinen Gästen mitteilen\, was wir von seiner Verkehrspolitik halten! \nUpdate 10.08.2023: \nMenschen\, die von Mainz mit dem Rad nach Schierstein fahren wollen\, haben dazu aufgerufen\, sich ihnen anzuschließen. Treffpunkt ist am Sonntag um 9 Uhr am Fischtorplatz. Siehe Termin. \n 
URL:https://kolibri-kollektiv.net/termin/wissing-kommt-nach-wiesbaden/
LOCATION:Brückenkopf Schierstein\, Hafenweg\, Wiesbaden\, 65201
ATTACH;FMTTYPE=image/png:https://kolibri-kollektiv.net/wp-content/uploads/2023/07/Sharepic_Kundgebung_13.08.2023.png
END:VEVENT
BEGIN:VEVENT
DTSTART;TZID=Europe/Berlin:20230813T090000
DTEND;TZID=Europe/Berlin:20230813T100000
DTSTAMP:20240306T115709
CREATED:20230810T181428Z
LAST-MODIFIED:20230811T070223Z
UID:528-1691917200-1691920800@kolibri-kollektiv.net
SUMMARY:Gemeinsam mit dem Rad zur Kundgebung in Schierstein
DESCRIPTION:Am Sonntag kommt Bundesverkehrsminister Wissing nach WI-Schierstein um die neue Autobahnbrücke einzuweihen. Wissing missachtet seine Klimaziele und macht Politik für die Autolobby. Wenn es nach ihm geht\, sollen die A643 und A60 im Mainzer Sand und Lennebergwald schon bald auf 6 Spuren ausgebaut werden. \nAber nicht mit uns! \nAb 10 Uhr findet eine Protestkundgebung im angrenzenden Hafenweg in Schierstein statt. Menschen\, die von Mainz mit dem Rad nach Schierstein fahren wollen\, haben dazu aufgerufen\, sich ihnen anzuschließen. \nTreffpunkt ist am Sonntag um 9 Uhr am Fischtorplatz in Mainz \nSeid dabei und zeigt Volker Wissing\, wie eine echte Mobilitätswende aussieht! \nHier gehts zum Aufruf der Kundgebung
URL:https://kolibri-kollektiv.net/termin/gemeinsam-mit-dem-rad-zur-kundgebung/
LOCATION:Fischtorplatz\, Fischtorplatz\, Mainz\, 55116
ATTACH;FMTTYPE=image/png:https://kolibri-kollektiv.net/wp-content/uploads/2023/08/3.png
END:VEVENT
BEGIN:VEVENT
DTSTART;TZID=Europe/Berlin:20230730T170000
DTEND;TZID=Europe/Berlin:20230730T190000
DTSTAMP:20240306T115709
CREATED:20230723T170634Z
LAST-MODIFIED:20230723T181235Z
UID:498-1690736400-1690743600@kolibri-kollektiv.net
SUMMARY:Kolibri-Plenum am 30.07.23
DESCRIPTION:Jeden zweiten Sonntag treffen wir uns zum Plenum im Haus Mainusch. Diesmal starten wir um 17 Uhr mit dem regulären Plenum. Nach einer kurzen Pause geht es ab 18 Uhr weiter mit einem Input zum Thema Tierindustrie.
URL:https://kolibri-kollektiv.net/termin/kolibri-plenum_30-07-23/
LOCATION:Haus Mainusch\, Staudingerweg 23\, Mainz\, 55120\, Deutschland
ATTACH;FMTTYPE=image/png:https://kolibri-kollektiv.net/wp-content/uploads/2022/11/koliko_plenum-e1668350861369.png
END:VEVENT
END:VCALENDAR