BEGIN:VCALENDAR
VERSION:2.0
PRODID:-//Kolibri-Kollektiv - ECPv6.3.3.1//NONSGML v1.0//EN
CALSCALE:GREGORIAN
METHOD:PUBLISH
X-ORIGINAL-URL:https://kolibri-kollektiv.net
X-WR-CALDESC:Veranstaltungen für Kolibri-Kollektiv
REFRESH-INTERVAL;VALUE=DURATION:PT1H
X-Robots-Tag:noindex
X-PUBLISHED-TTL:PT1H
BEGIN:VTIMEZONE
TZID:Europe/Berlin
BEGIN:DAYLIGHT
TZOFFSETFROM:+0100
TZOFFSETTO:+0200
TZNAME:CEST
DTSTART:20240331T010000
END:DAYLIGHT
BEGIN:STANDARD
TZOFFSETFROM:+0200
TZOFFSETTO:+0100
TZNAME:CET
DTSTART:20241027T010000
END:STANDARD
END:VTIMEZONE
BEGIN:VEVENT
DTSTART;TZID=Europe/Berlin:20240310T150000
DTEND;TZID=Europe/Berlin:20240310T170000
DTSTAMP:20240306T114142
CREATED:20240225T114302Z
LAST-MODIFIED:20240302T143223Z
UID:683-1710082800-1710090000@kolibri-kollektiv.net
SUMMARY:Das Kolibri-Kollektiv stellt sich vor: Kennenlern-Treffen
DESCRIPTION:Am 10.3. lädt das Kolibri-Kollektiv zu einem Kennenlern-Treffen im Mainzer Infoladen ein. \nDas Kolibri-Kollektiv ist eine Gruppe von Menschen\, die nicht länger bereit sind mit anzuschauen\, wie die Welt in der wir leben vor unseren Augen für kurzfristige Interessen ausgebeutet wird. Gemeinsam stellen wir uns der Zerstörung unserer Lebensgrundlagen in den Weg und setzen uns für eine lebenswerte Zukunft für alle ein. \nDabei setzen wir auf unterschiedliche Aktionsformen — egal ob vor Ort oder digital\, mit Demos auf der Straße oder in den Bäumen\, mit Social Media Kampagnen oder Petitionen — Aktionsvielfalt ist uns wichtig! Bei uns ist für jeden Mensch etwas passendes dabei. \nVor einem Jahr haben wir mit unserer Demo auf der A643 ein starkes Zeichen gegen den Autobahnausbau im Mainzer Sand und Lennebergwald gesetzt. Im August starteten wir\, gemeinsam mit weiteren Mainzer Umweltgruppen eine Kampagne gegen den Mainzer Fleischkongress und sammelten mit unserer Petition weit über 20.000 Unterschriften. \nUnd auch dieses Jahr haben wir wieder viel vor! \nDu möchtest uns kennenlernen oder könntest dir vorstellen\, bei uns mit zu machen? Dann komm zu unserem Kennenlern-Treffen und erfahre mehr über uns\, unsere Ziele und Aktivitäten. \nWir treffen und am Sonntag\, dem 10.3. um 15 Uhr im Infoladen Ella Janecek in der Zanggasse 21 in Mainz. \nBis bald! \nEure Kolibris
URL:https://kolibri-kollektiv.net/termin/onboarding-und-kennenlern-treffen/
LOCATION:Infoladen Ella Janecek\, Zanggasse 21\, Mainz\, 55116\, Deutschland
ATTACH;FMTTYPE=image/png:https://kolibri-kollektiv.net/wp-content/uploads/2024/02/1-e1708861317289.png
END:VEVENT
END:VCALENDAR