BEGIN:VCALENDAR
VERSION:2.0
PRODID:-//Kolibri-Kollektiv - ECPv6.3.3.1//NONSGML v1.0//EN
CALSCALE:GREGORIAN
METHOD:PUBLISH
X-WR-CALNAME:Kolibri-Kollektiv
X-ORIGINAL-URL:https://kolibri-kollektiv.net
X-WR-CALDESC:Veranstaltungen für Kolibri-Kollektiv
REFRESH-INTERVAL;VALUE=DURATION:PT1H
X-Robots-Tag:noindex
X-PUBLISHED-TTL:PT1H
BEGIN:VTIMEZONE
TZID:Europe/Berlin
BEGIN:DAYLIGHT
TZOFFSETFROM:+0100
TZOFFSETTO:+0200
TZNAME:CEST
DTSTART:20240331T010000
END:DAYLIGHT
BEGIN:STANDARD
TZOFFSETFROM:+0200
TZOFFSETTO:+0100
TZNAME:CET
DTSTART:20241027T010000
END:STANDARD
END:VTIMEZONE
BEGIN:VEVENT
DTSTART;TZID=Europe/Berlin:20240131T150000
DTEND;TZID=Europe/Berlin:20240131T210000
DTSTAMP:20240306T121409
CREATED:20240126T160645Z
LAST-MODIFIED:20240126T160708Z
UID:660-1706713200-1706734800@kolibri-kollektiv.net
SUMMARY:Mainzer Stadtratsitzung berät über Fleischkongress
DESCRIPTION:In der kommenden Sitzung des Mainzer Stadtrats am 31.01. wird auch das Thema Fleischkongress auf der Tagesordnung stehen – und unsere Petition gegen den Kongress. \nAuf die Agenda brachte das Thema die Mainzer ödp\, die anfragt\, was aus der angekündigten Prüfung unserer Petition geworden ist und in wie weit die Ausrichtung des Treffens der Fleischbranchenriesen mit den Umweltrichtlinien der Fair Trade Stadt Mainz vereinbar ist. \nDie Fragen sind mehr als berechtigt\, denn seit der Übergabe unserer Petition am 21.11. haben wir nichts mehr von Manuela Matz gehört. Und auch OB Haase hält sich weiterhin gekonnt bedeckt. Höchste Zeit also\, dass sich die Stadt Mainz zu unserer Forderung positioniert\, denn der nächste Fleischkongress in Mainz wurde bereits angekündigt. \nDie Sitzung beginnt am kommenden Mittwoch um 15 Uhr in der Mainzer Rheingoldhalle. Kommt gerne dazu! \nGemeinsam sagen wir: NEIN zum Deutschen Fleischkongress in Mainz!
URL:https://kolibri-kollektiv.net/termin/mainzer-stadtratsitzung-beraet-ueber-fleischkongress/
LOCATION:Rheingoldhalle Mainz\, Rheinstraße 66\, Mainz\, 55116\, Deutschland
ATTACH;FMTTYPE=image/png:https://kolibri-kollektiv.net/wp-content/uploads/2024/01/stadtratsitzung-mz_2024-01-31.png
END:VEVENT
END:VCALENDAR